BEGIN:VCALENDAR
VERSION:2.0
PRODID:-//Greater Elkhart Chamber of Commerce - ECPv6.15.7//NONSGML v1.0//EN
CALSCALE:GREGORIAN
METHOD:PUBLISH
X-ORIGINAL-URL:https://www.elkhart.org
X-WR-CALDESC:Events for Greater Elkhart Chamber of Commerce
REFRESH-INTERVAL;VALUE=DURATION:PT1H
X-Robots-Tag:noindex
X-PUBLISHED-TTL:PT1H
BEGIN:VTIMEZONE
TZID:UTC
BEGIN:STANDARD
TZOFFSETFROM:+0000
TZOFFSETTO:+0000
TZNAME:UTC
DTSTART:20220101T000000
END:STANDARD
END:VTIMEZONE
BEGIN:VEVENT
DTSTART;TZID=UTC:20230516T170000
DTEND;TZID=UTC:20230516T190000
DTSTAMP:20260424T154312
CREATED:20230417T144940Z
LAST-MODIFIED:20230417T145259Z
UID:27950-1684256400-1684263600@www.elkhart.org
SUMMARY:Business After Hours hosted by TCU Mortgage
DESCRIPTION:Join us Tuesday\, May 16 for the Business After Hours Networking Event at TCU Mortgage. \nLight hors d’oeuvres will be served.
URL:https://www.elkhart.org/event/business-after-hours-hosted-by-tcu-mortgage/
LOCATION:Teachers Credit Union\, 201 County Road 6\, Elkhart\, IN\, United States
CATEGORIES:Chamber,Featured
END:VEVENT
BEGIN:VEVENT
DTSTART;TZID=UTC:20230517T073000
DTEND;TZID=UTC:20230517T090000
DTSTAMP:20260424T154312
CREATED:20230417T152017Z
LAST-MODIFIED:20230501T195957Z
UID:27957-1684308600-1684314000@www.elkhart.org
SUMMARY:OSHA Council Breakfast - Annual IOSHA Update
DESCRIPTION:Mark McDaniel\, INSafe Field Consultant\, will be presenting at the annual IOSHA update. Among many topics\, he will be sharing the Top 10 OSHA standards cited last year\, guidance on how your organization can maintain compliance with these top citations and how you can utilize IOSHA as a key safety partner. \nBreakfast served at 7:30; program begins at 8. \nRegistration deadline is Friday\, May 12. \n  \n\n\n\n\nAnnual Sponsors:\n\n\n\n\n\n\n\n\n\n  \nCancellations must be received at least 4 days prior to the meeting. Registration Deadline is Friday\, April 12 at noon.\nTo reserve tickets\, you must either click on the + sign or enter a quantity before clicking “Get Tickets”
URL:https://www.elkhart.org/event/osha-council-breakfast-annual-iosha-update/
LOCATION:Matterhorn Conference Center\, 2041 Cassopolis St\, Elkhart\, IN\, 46516\, United States
CATEGORIES:Chamber,Featured
END:VEVENT
BEGIN:VEVENT
DTSTART;TZID=UTC:20230518T091500
DTEND;TZID=UTC:20230518T114500
DTSTAMP:20260424T154312
CREATED:20230310T174302Z
LAST-MODIFIED:20230501T151010Z
UID:27481-1684401300-1684410300@www.elkhart.org
SUMMARY:Financial Planning for Small Businesses
DESCRIPTION:Take advantage of this great opportunity as a small business owner! \nFor small business owners\, sound financial planning is crucial for achieving long-term success. Establishing strong money management practices can help provide the necessary structure to reach your goals with confidence and security. The Greater Elkhart Chamber of Commerce’s Business Diversity Initiative (BDI) is hosting a panel of financial service experts that provide event attendees the knowledge and insight needed to build a solid financial foundation\, along with additional invaluable information needed for their business. \nRegardless of where you are in your entrepreneurial journey\, this event is for you! \nPanelists: Samuel Kamwenji CUDE\, CCUFC\, Manager of Community Relations & Business Development at INOVA Federal; Griselda Cantu\, Relationship Banker at Old National Bank \nAt the end of this session\, attendees will: \n\nUnderstand the basics of financial planning for a small business owner\nUnderstand basic financial documents\nUnderstand products and services available for small businesses regardless of where they are in their entrepreneurial journey.\n\nRegister at https://thoughtleadershipconference.com/ \nInstructions: To view the event\, go to the ‘Schedule’ tab located at the top of the page; to sign up for the event\, go to the ‘Register’ tab and enter the BDI access code. \nAttendees can use code BDI to attend the event and conference for free. Seats are limited so register today before tickets run out!
URL:https://www.elkhart.org/event/financial-planning-for-small-businesses/
LOCATION:Greater Elkhart Chamber of Commerce\, 418 S. Main St\, Elkhart\, IN\, 46516\, United States
CATEGORIES:Chamber,Featured
END:VEVENT
BEGIN:VEVENT
DTSTART;TZID=UTC:20230518T113000
DTEND;TZID=UTC:20230518T130000
DTSTAMP:20260424T154312
CREATED:20230404T174047Z
LAST-MODIFIED:20230427T141516Z
UID:27793-1684409400-1684414800@www.elkhart.org
SUMMARY:Generational Communication - Women's Council Luncheon
DESCRIPTION:Panelists include Tami Martinez\, Indiana University South Bend; Holly Decker\, Crowe LLP; Debie Coble\, Goodwill Industries of Michiana\, Inc.; and Heather Thompson\, Oaklawn. Moderator: Kristin Bien\, WSBT \nSponsored by \n \nAll cancellations must be received four (4) days prior to the event for a full refund.\nTo reserve tickets\, you must either click on the + sign or enter a quantity before clicking “Get Tickets”. \nPlease list any dietary restrictions in the notes section of your registration
URL:https://www.elkhart.org/event/generational-communication-womens-council-luncheon/
LOCATION:Crossroads United Way\, 601 County Road 17\, Elkhart\, IN\, United States
CATEGORIES:Chamber,Featured
END:VEVENT
BEGIN:VEVENT
DTSTART;TZID=UTC:20230518T153000
DTEND;TZID=UTC:20230518T153000
DTSTAMP:20260424T154312
CREATED:20230509T201844Z
LAST-MODIFIED:20230509T201844Z
UID:28538-1684423800-1684423800@www.elkhart.org
SUMMARY:Member Celebration – INOVA Federal
DESCRIPTION:The Greater Elkhart Chamber of Commerce will host a ribbon cutting ceremony Thursday\, May 18\, 2023 at 3:30 p.m. to celebrate the completion of renovations at INOVA Federal located at 358 S Elkhart Ave\, Elkhart\, IN.
URL:https://www.elkhart.org/event/member-celebration-inova-federal/
LOCATION:INOVA Federal\, 358 S Elkhart Ave\, Elkhart\, IN\, United States
CATEGORIES:Chamber
END:VEVENT
BEGIN:VEVENT
DTSTART;TZID=UTC:20230518T160000
DTEND;TZID=UTC:20230518T180000
DTSTAMP:20260424T154312
CREATED:20230426T192803Z
LAST-MODIFIED:20230427T201427Z
UID:28105-1684425600-1684432800@www.elkhart.org
SUMMARY:Member Celebration - Lenox Event Venue
DESCRIPTION:The Greater Elkhart Chamber of Commerce will host a ribbon cutting ceremony to celebrate the Grand Opening of the Lenox Event Venue on Thursday\, May 18 at 4:00 p.m. www.LenoxEvents.com \nOpening soon for your special event!  The Lenox\, located at 101 N Main St in Downtown Elkhart\, has been restored to match its 1905 design: beautiful woodwork\, stained glass skylights\, wrought-iron doors\, and marble details. The venue will be as memorable as the memories you make here.
URL:https://www.elkhart.org/event/member-celebration-lenox-event-venue/
LOCATION:Lenox Event Venue\, 101 N Main St\, Elkhart\, IN\, United States
CATEGORIES:Chamber
END:VEVENT
END:VCALENDAR