BEGIN:VCALENDAR
VERSION:2.0
PRODID:-//Greater Elkhart Chamber of Commerce - ECPv6.15.7//NONSGML v1.0//EN
CALSCALE:GREGORIAN
METHOD:PUBLISH
X-WR-CALNAME:Greater Elkhart Chamber of Commerce
X-ORIGINAL-URL:https://www.elkhart.org
X-WR-CALDESC:Events for Greater Elkhart Chamber of Commerce
REFRESH-INTERVAL;VALUE=DURATION:PT1H
X-Robots-Tag:noindex
X-PUBLISHED-TTL:PT1H
BEGIN:VTIMEZONE
TZID:UTC
BEGIN:STANDARD
TZOFFSETFROM:+0000
TZOFFSETTO:+0000
TZNAME:UTC
DTSTART:20210101T000000
END:STANDARD
END:VTIMEZONE
BEGIN:VEVENT
DTSTART;TZID=UTC:20221209T080000
DTEND;TZID=UTC:20221209T093000
DTSTAMP:20260423T185859
CREATED:20221007T191939Z
LAST-MODIFIED:20221020T173753Z
UID:25264-1670572800-1670578200@www.elkhart.org
SUMMARY:Transportation Breakfast 2022
DESCRIPTION:Join the Chamber’s Transportation Council as we host the annual Transportation Breakfast on Friday\, December 9. \nThis year’s topic will be Alternative Fuel Vehicles and the Necessary Infrastructure\, with presenter Carl Lisek\, Executive Director of Drive Clean Indiana. \nDrive Clean Indiana is a 501(c)(3) nonprofit organization managed by Legacy Environmental Services\, Inc.\, an Indiana Certified Women’s Business Enterprise. Designated as the 71st Clean Cities coalition on June 15\, 1999\, Drive Clean Indiana is one of the U.S. Department of Energy’s nearly 100 Clean Cities coalitions. The organizations are designed to reduce petroleum consumption in the transportation sector. \nThe coalitions achieve this in a number of ways\, including the advancement of alternative fuels\, alternative fuel vehicles and sustainable vehicle technologies such as electric vehicles and their charging infrastructure. The efforts reduce the nation’s dependence on imported oil\, improve air quality\, support local jobs\, drive economic development and promote improved quality of life. \nThis event is open to the public. Registration deadline is December 2 \nSponsors for the event are Indiana Michigan Power; ITR Concession Company; Lochmueller Group\, LLC; Rieth-Riley Construction Company; and Surveying and Mapping LLC. \nAll cancellations must be received four (4) days prior to the event for a full refund.\nTo reserve tickets\, you must either click on the + sign or enter a quantity before clicking “Get Tickets”
URL:https://www.elkhart.org/event/transportation-breakfast-2022/
LOCATION:Matterhorn Conference Center\, 2041 Cassopolis St\, Elkhart\, IN\, 46516\, United States
CATEGORIES:Chamber,Featured
END:VEVENT
END:VCALENDAR