BEGIN:VCALENDAR
VERSION:2.0
PRODID:-//Greater Elkhart Chamber of Commerce - ECPv6.15.7//NONSGML v1.0//EN
CALSCALE:GREGORIAN
METHOD:PUBLISH
X-ORIGINAL-URL:https://www.elkhart.org
X-WR-CALDESC:Events for Greater Elkhart Chamber of Commerce
REFRESH-INTERVAL;VALUE=DURATION:PT1H
X-Robots-Tag:noindex
X-PUBLISHED-TTL:PT1H
BEGIN:VTIMEZONE
TZID:America/Indiana/Indianapolis
BEGIN:DAYLIGHT
TZOFFSETFROM:-0500
TZOFFSETTO:-0400
TZNAME:EDT
DTSTART:20200308T070000
END:DAYLIGHT
BEGIN:STANDARD
TZOFFSETFROM:-0400
TZOFFSETTO:-0500
TZNAME:EST
DTSTART:20201101T060000
END:STANDARD
BEGIN:DAYLIGHT
TZOFFSETFROM:-0500
TZOFFSETTO:-0400
TZNAME:EDT
DTSTART:20210314T070000
END:DAYLIGHT
BEGIN:STANDARD
TZOFFSETFROM:-0400
TZOFFSETTO:-0500
TZNAME:EST
DTSTART:20211107T060000
END:STANDARD
BEGIN:DAYLIGHT
TZOFFSETFROM:-0500
TZOFFSETTO:-0400
TZNAME:EDT
DTSTART:20220313T070000
END:DAYLIGHT
BEGIN:STANDARD
TZOFFSETFROM:-0400
TZOFFSETTO:-0500
TZNAME:EST
DTSTART:20221106T060000
END:STANDARD
END:VTIMEZONE
BEGIN:VEVENT
DTSTART;TZID=America/Indiana/Indianapolis:20210913T110000
DTEND;TZID=America/Indiana/Indianapolis:20210913T130000
DTSTAMP:20260421T200355
CREATED:20210429T124405Z
LAST-MODIFIED:20210914T144952Z
UID:19295-1631530800-1631538000@www.elkhart.org
SUMMARY:Clean Your Files Day 2021
DESCRIPTION:Bring old\, out-of-date files and office paper to Clean Your Files Day 2021! \nMonday\, September 13   11 am to 1 pm  near Civic Plaza\n \nIntegra Certified Document Destruction\, LLC will have a document shredding truck on hand to recycle and destroy your files free* on Clean Your Files Day! \n*The first 5 boxes are free and each box thereafter is $3. \nFor more information please call Greater Elkhart Chamber: 293-1531 or Integra Certified Document Destruction\, LLC: 295-4611 x 552 \nRegistration is not required – but it would be helpful for planning\, and if we need to contact you for any changes in the schedule. To register\, please click on the + sign in the Get Tickets Box. You only need to register one ticket\, regardless of how many boxes you are bringing. \nSponsored by \nGreater Elkhart Chamber of Commerce\nCity of Elkhart\nIntegra Certified Document Destruction\, LLC \n 
URL:https://www.elkhart.org/event/clean-your-files-day-2021/
LOCATION:Civic Plaza\, Downtown Elkhart
CATEGORIES:Chamber,Featured
END:VEVENT
BEGIN:VEVENT
DTSTART;TZID=America/Indiana/Indianapolis:20210915T073000
DTEND;TZID=America/Indiana/Indianapolis:20210915T090000
DTSTAMP:20260421T200355
CREATED:20210818T120750Z
LAST-MODIFIED:20210910T144212Z
UID:20424-1631691000-1631696400@www.elkhart.org
SUMMARY:OSHA Breakfast - Dealing with Delta
DESCRIPTION:Dealing with Delta – IOSHA’s Advice and Local Best Practice Sharing \nWe’re kicking of this OSHA Council year with the latest on how OSHA\, the State of Indiana and businesses in the area are dealing with the Delta Variant\, masks\, vaccinations\, etc. \nPlease join us as Mark McDaniel\, INSafe Consultant\, shares IOSHA’s perspective on keeping the work place safe and addressing Delta related concerns.  Also learn how companies in the state and this region are tackling the issues with COVID’s resurgence heading into the colder months. \nTo reserve tickets\, you must either click on the + sign or enter a quantity before clicking “Get Tickets” \nThere will also be a Zoom option available.  Please let us know if you are interested in participating via Zoom. \nSponsored by:
URL:https://www.elkhart.org/event/osha-breakfast-september-2021/
LOCATION:Matterhorn Conference Center\, 2041 Cassopolis St\, Elkhart\, IN\, 46516\, United States
CATEGORIES:Chamber,Featured
END:VEVENT
BEGIN:VEVENT
DTSTART;TZID=America/Indiana/Indianapolis:20210916T113000
DTEND;TZID=America/Indiana/Indianapolis:20210916T130000
DTSTAMP:20260421T200355
CREATED:20210816T154529Z
LAST-MODIFIED:20210816T154529Z
UID:20386-1631791800-1631797200@www.elkhart.org
SUMMARY:Focus on Nonprofits - Women's Council Luncheon
DESCRIPTION:Come hear about the great work our community nonprofits are doing and learn how you can get involved! \nBashor Human Trafficking\nD321gner Space\, Inc.\nElkhart County Suicide Prevention Coalition\nFive Little Stones\nLacasa\nNorth Central Adult & Teen Challenge/Stay Sharp\nSleep in Heavenly Peace\nSpa Ministries \nTo reserve tickets\, you must either click on the + sign or enter a quantity before clicking “Get Tickets”
URL:https://www.elkhart.org/event/focus-on-nonprofits-womens-council-luncheon/
LOCATION:The Gathering Place at Billings\, 1231 Johnson St.\, Elkhart\, IN\, United States
CATEGORIES:Chamber,Featured
END:VEVENT
END:VCALENDAR