BEGIN:VCALENDAR
VERSION:2.0
PRODID:-//Greater Elkhart Chamber of Commerce - ECPv6.15.7//NONSGML v1.0//EN
CALSCALE:GREGORIAN
METHOD:PUBLISH
X-ORIGINAL-URL:https://www.elkhart.org
X-WR-CALDESC:Events for Greater Elkhart Chamber of Commerce
REFRESH-INTERVAL;VALUE=DURATION:PT1H
X-Robots-Tag:noindex
X-PUBLISHED-TTL:PT1H
BEGIN:VTIMEZONE
TZID:America/Indiana/Indianapolis
BEGIN:DAYLIGHT
TZOFFSETFROM:-0500
TZOFFSETTO:-0400
TZNAME:EDT
DTSTART:20200308T070000
END:DAYLIGHT
BEGIN:STANDARD
TZOFFSETFROM:-0400
TZOFFSETTO:-0500
TZNAME:EST
DTSTART:20201101T060000
END:STANDARD
BEGIN:DAYLIGHT
TZOFFSETFROM:-0500
TZOFFSETTO:-0400
TZNAME:EDT
DTSTART:20210314T070000
END:DAYLIGHT
BEGIN:STANDARD
TZOFFSETFROM:-0400
TZOFFSETTO:-0500
TZNAME:EST
DTSTART:20211107T060000
END:STANDARD
BEGIN:DAYLIGHT
TZOFFSETFROM:-0500
TZOFFSETTO:-0400
TZNAME:EDT
DTSTART:20220313T070000
END:DAYLIGHT
BEGIN:STANDARD
TZOFFSETFROM:-0400
TZOFFSETTO:-0500
TZNAME:EST
DTSTART:20221106T060000
END:STANDARD
END:VTIMEZONE
BEGIN:VEVENT
DTSTART;TZID=America/Indiana/Indianapolis:20210810T113000
DTEND;TZID=America/Indiana/Indianapolis:20210810T130000
DTSTAMP:20260421T190901
CREATED:20210507T155221Z
LAST-MODIFIED:20210808T222353Z
UID:19428-1628595000-1628600400@www.elkhart.org
SUMMARY:INDOT Luncheon 2021
DESCRIPTION:INDOT Luncheon 2021 hosted by The Transportation Council of the Greater Elkhart Chamber of Commerce \nSpecial guests from Indiana Department of Transportation \nLet’s celebrate what we have already achieved working together! Learn about upcoming plans for transportation infrastructure in the Michiana area. \nRegistration for this event is now closed. \nPresented by:   \n   \nLuncheon Sponsors:\nHRP Construction Inc.; Indiana Michigan Power; Majority Builders; Rieth-Riley Construction Co.\, Inc.; Robert Weed Corporation; and Surveying And Mapping\, LLC \n 
URL:https://www.elkhart.org/event/indot-luncheon-2021/
LOCATION:Elcona Country Club\, 56784 Co Rd 21\, Bristol\, IN\, 46507\, United States
CATEGORIES:Chamber,Featured
END:VEVENT
BEGIN:VEVENT
DTSTART;TZID=America/Indiana/Indianapolis:20210812T110000
DTEND;TZID=America/Indiana/Indianapolis:20210812T110000
DTSTAMP:20260421T190901
CREATED:20210721T122451Z
LAST-MODIFIED:20210721T122504Z
UID:20139-1628766000-1628766000@www.elkhart.org
SUMMARY:Member Celebration - Faith Mission Low Barrier Shelter Completion
DESCRIPTION:Faith Mission is the only emergency facility in Elkhart County where shelter\, meals\, clothing and long-term recovery programs are provided all in one place. Join us for a ribbon cutting ceremony on August 12 at 11am at 801 Benham Ave\, to celebrate the completion of the low barrier shelters. www.thefaithmission.org
URL:https://www.elkhart.org/event/member-celebration-faith-mission-low-barrier-shelter-completion/
LOCATION:Faith Mission\, 801 Benham Ave\, Elkhart\, IN\, United States
CATEGORIES:Chamber
END:VEVENT
BEGIN:VEVENT
DTSTART;TZID=America/Indiana/Indianapolis:20210813T160000
DTEND;TZID=America/Indiana/Indianapolis:20210813T200000
DTSTAMP:20260421T190901
CREATED:20210729T143805Z
LAST-MODIFIED:20210729T143805Z
UID:20246-1628870400-1628884800@www.elkhart.org
SUMMARY:Member Celebration - Redefine Aesthetics
DESCRIPTION:Redefine Aesthetics Birthday Bash + Ribbon-cutting Ceremony \nRedefine Aesthetics joined the Elkhart Chamber! Come celebrate with us on Friday\, August 13 from 4 – 8 p.m.  Ribbon-cutting ceremony at 4 p.m. followed by our 2nd Birthday Bash until 8 p.m.  Blessed to be in Elkhart and have clients\, followers and friends. There will be sales\, treats\, food\, drinks and a gift with purchase valued at $50.  Looking forward to celebrating with you! facebook.com/redefinemicroblading
URL:https://www.elkhart.org/event/member-celebration-redefine-aesthetics/
LOCATION:Redefine Aesthetics\, 112 W. Lexington Ave\, Elkhart\, IN\, 46516\, United States
CATEGORIES:Chamber
END:VEVENT
END:VCALENDAR