BEGIN:VCALENDAR
VERSION:2.0
PRODID:-//Greater Elkhart Chamber of Commerce - ECPv6.15.7//NONSGML v1.0//EN
CALSCALE:GREGORIAN
METHOD:PUBLISH
X-WR-CALNAME:Greater Elkhart Chamber of Commerce
X-ORIGINAL-URL:https://www.elkhart.org
X-WR-CALDESC:Events for Greater Elkhart Chamber of Commerce
REFRESH-INTERVAL;VALUE=DURATION:PT1H
X-Robots-Tag:noindex
X-PUBLISHED-TTL:PT1H
BEGIN:VTIMEZONE
TZID:UTC
BEGIN:STANDARD
TZOFFSETFROM:+0000
TZOFFSETTO:+0000
TZNAME:UTC
DTSTART:20240101T000000
END:STANDARD
END:VTIMEZONE
BEGIN:VEVENT
DTSTART;TZID=UTC:20250623T083000
DTEND;TZID=UTC:20250623T193000
DTSTAMP:20260421T052203
CREATED:20240610T154317Z
LAST-MODIFIED:20250528T230722Z
UID:34127-1750667400-1750707000@www.elkhart.org
SUMMARY:Golf Outing 2025
DESCRIPTION:Join us at beautiful Elcona Country Club for Elkhart County’s premier golf outing! \nAM Tee Time: 8:30 am SOLD OUT! To be placed on the waiting list\, please call 574-293-1531\nPM Tee Time: 2:15 pm SOLD OUT! To be placed on the waiting list\, please call 574-293-1531 \nHole Sponsorships SOLD OUT! To be placed on the waiting list\, please call 574-293-1531 \nEvent Sponsored by \n \nTo reserve tickets\, you must either click on the + sign or enter a quantity before clicking “Get Tickets” \nIf you know your golfers’ names\, you can include them in the comment section. If not\, we will contact you later for the names.
URL:https://www.elkhart.org/event/golf-outing-2025/
LOCATION:Elcona Country Club\, 56784 Co Rd 21\, Bristol\, IN\, 46507\, United States
CATEGORIES:Chamber,Featured
END:VEVENT
END:VCALENDAR