BEGIN:VCALENDAR
VERSION:2.0
PRODID:-//Greater Elkhart Chamber of Commerce - ECPv6.15.7//NONSGML v1.0//EN
CALSCALE:GREGORIAN
METHOD:PUBLISH
X-WR-CALNAME:Greater Elkhart Chamber of Commerce
X-ORIGINAL-URL:https://www.elkhart.org
X-WR-CALDESC:Events for Greater Elkhart Chamber of Commerce
REFRESH-INTERVAL;VALUE=DURATION:PT1H
X-Robots-Tag:noindex
X-PUBLISHED-TTL:PT1H
BEGIN:VTIMEZONE
TZID:America/Indiana/Indianapolis
BEGIN:DAYLIGHT
TZOFFSETFROM:-0500
TZOFFSETTO:-0400
TZNAME:EDT
DTSTART:20240310T070000
END:DAYLIGHT
BEGIN:STANDARD
TZOFFSETFROM:-0400
TZOFFSETTO:-0500
TZNAME:EST
DTSTART:20241103T060000
END:STANDARD
BEGIN:DAYLIGHT
TZOFFSETFROM:-0500
TZOFFSETTO:-0400
TZNAME:EDT
DTSTART:20250309T070000
END:DAYLIGHT
BEGIN:STANDARD
TZOFFSETFROM:-0400
TZOFFSETTO:-0500
TZNAME:EST
DTSTART:20251102T060000
END:STANDARD
BEGIN:DAYLIGHT
TZOFFSETFROM:-0500
TZOFFSETTO:-0400
TZNAME:EDT
DTSTART:20260308T070000
END:DAYLIGHT
BEGIN:STANDARD
TZOFFSETFROM:-0400
TZOFFSETTO:-0500
TZNAME:EST
DTSTART:20261101T060000
END:STANDARD
END:VTIMEZONE
BEGIN:VEVENT
DTSTART;TZID=America/Indiana/Indianapolis:20250520T160000
DTEND;TZID=America/Indiana/Indianapolis:20250520T180000
DTSTAMP:20260421T134951
CREATED:20250326T135553Z
LAST-MODIFIED:20250326T135553Z
UID:38866-1747756800-1747764000@www.elkhart.org
SUMMARY:Business After Hours hosted by Ancon Construction
DESCRIPTION:Join us at Business After Hours Hosted by Ancon Construction!\nTuesday\, May 20 from 4 – 6 pm in their new building at 2121 W Wilden Ave\, Goshen. \nEnjoy an evening of networking\, conversation\, refreshments\, and fun giveaways.\nA great opportunity to network and grow together — see you at Business After Hours! \n 
URL:https://www.elkhart.org/event/business-after-hours-hosted-by-ancon-construction/
LOCATION:Ancon Construction Corporate Office\, 2121 West Wilden Avenue\, Goshen\, United States
CATEGORIES:Chamber,Featured
END:VEVENT
END:VCALENDAR