BEGIN:VCALENDAR
VERSION:2.0
PRODID:-//Greater Elkhart Chamber of Commerce - ECPv6.15.7//NONSGML v1.0//EN
CALSCALE:GREGORIAN
METHOD:PUBLISH
X-WR-CALNAME:Greater Elkhart Chamber of Commerce
X-ORIGINAL-URL:https://www.elkhart.org
X-WR-CALDESC:Events for Greater Elkhart Chamber of Commerce
REFRESH-INTERVAL;VALUE=DURATION:PT1H
X-Robots-Tag:noindex
X-PUBLISHED-TTL:PT1H
BEGIN:VTIMEZONE
TZID:America/Indiana/Indianapolis
BEGIN:DAYLIGHT
TZOFFSETFROM:-0500
TZOFFSETTO:-0400
TZNAME:EDT
DTSTART:20240310T070000
END:DAYLIGHT
BEGIN:STANDARD
TZOFFSETFROM:-0400
TZOFFSETTO:-0500
TZNAME:EST
DTSTART:20241103T060000
END:STANDARD
BEGIN:DAYLIGHT
TZOFFSETFROM:-0500
TZOFFSETTO:-0400
TZNAME:EDT
DTSTART:20250309T070000
END:DAYLIGHT
BEGIN:STANDARD
TZOFFSETFROM:-0400
TZOFFSETTO:-0500
TZNAME:EST
DTSTART:20251102T060000
END:STANDARD
BEGIN:DAYLIGHT
TZOFFSETFROM:-0500
TZOFFSETTO:-0400
TZNAME:EDT
DTSTART:20260308T070000
END:DAYLIGHT
BEGIN:STANDARD
TZOFFSETFROM:-0400
TZOFFSETTO:-0500
TZNAME:EST
DTSTART:20261101T060000
END:STANDARD
END:VTIMEZONE
BEGIN:VEVENT
DTSTART;TZID=America/Indiana/Indianapolis:20250426T120000
DTEND;TZID=America/Indiana/Indianapolis:20250426T123000
DTSTAMP:20260419T152729
CREATED:20250415T195630Z
LAST-MODIFIED:20250415T195630Z
UID:39313-1745668800-1745670600@www.elkhart.org
SUMMARY:Member Celebration - Carniceria El Rancho Grande
DESCRIPTION:Carniceria El Rancho Grande will celebrate their Grand Opening with a ribbon cutting on Saturday\, April 26 beginning at 12:00 pm. They are located at located at 2850 S Main Street\, Elkhart IN. Customers are welcome to shop\, eat\, and browse following the ceremony.
URL:https://www.elkhart.org/event/member-celebration-carniceria-el-rancho-grande/
LOCATION:Carniceria El Rancho Grande\, 2850 S Main St\, Elkhart\, United States
CATEGORIES:Chamber
END:VEVENT
END:VCALENDAR