BEGIN:VCALENDAR
VERSION:2.0
PRODID:-//Greater Elkhart Chamber of Commerce - ECPv6.15.7//NONSGML v1.0//EN
CALSCALE:GREGORIAN
METHOD:PUBLISH
X-WR-CALNAME:Greater Elkhart Chamber of Commerce
X-ORIGINAL-URL:https://www.elkhart.org
X-WR-CALDESC:Events for Greater Elkhart Chamber of Commerce
REFRESH-INTERVAL;VALUE=DURATION:PT1H
X-Robots-Tag:noindex
X-PUBLISHED-TTL:PT1H
BEGIN:VTIMEZONE
TZID:America/Indiana/Indianapolis
BEGIN:DAYLIGHT
TZOFFSETFROM:-0500
TZOFFSETTO:-0400
TZNAME:EDT
DTSTART:20240310T070000
END:DAYLIGHT
BEGIN:STANDARD
TZOFFSETFROM:-0400
TZOFFSETTO:-0500
TZNAME:EST
DTSTART:20241103T060000
END:STANDARD
BEGIN:DAYLIGHT
TZOFFSETFROM:-0500
TZOFFSETTO:-0400
TZNAME:EDT
DTSTART:20250309T070000
END:DAYLIGHT
BEGIN:STANDARD
TZOFFSETFROM:-0400
TZOFFSETTO:-0500
TZNAME:EST
DTSTART:20251102T060000
END:STANDARD
BEGIN:DAYLIGHT
TZOFFSETFROM:-0500
TZOFFSETTO:-0400
TZNAME:EDT
DTSTART:20260308T070000
END:DAYLIGHT
BEGIN:STANDARD
TZOFFSETFROM:-0400
TZOFFSETTO:-0500
TZNAME:EST
DTSTART:20261101T060000
END:STANDARD
END:VTIMEZONE
BEGIN:VEVENT
DTSTART;TZID=America/Indiana/Indianapolis:20250417T113000
DTEND;TZID=America/Indiana/Indianapolis:20250417T130000
DTSTAMP:20260422T092132
CREATED:20250108T163231Z
LAST-MODIFIED:20250415T203816Z
UID:37204-1744889400-1744894800@www.elkhart.org
SUMMARY:Women's Council Luncheon - Emotional Intelligence
DESCRIPTION:Join us for for a networking and luncheon focusing on Emotional Intelligence.\nPresenter: Olivia Critchlow with Critchlow Leadership \nPresenting Sponsor \n \nEvent Sponsors \n     \nRegistration Deadline is April 10. All cancellations must be received four (4) days prior to the event for a full refund.\nTo reserve tickets\, you must either click on the + sign or enter a quantity before clicking “Get Tickets”. \nPlease list any dietary restrictions in the notes section of your registration
URL:https://www.elkhart.org/event/womens-council-luncheon-4-17-25/
LOCATION:Hubbard Hill Living Wisdom Center\, 28070 CR 24\, Elkhart\, IN\, United States
CATEGORIES:Chamber,Featured
END:VEVENT
BEGIN:VEVENT
DTSTART;TZID=America/Indiana/Indianapolis:20250417T113000
DTEND;TZID=America/Indiana/Indianapolis:20250417T130000
DTSTAMP:20260422T092132
CREATED:20250331T125943Z
LAST-MODIFIED:20250401T175834Z
UID:38919-1744889400-1744894800@www.elkhart.org
SUMMARY:Empowerment Brunch to benefit Rose Garden Recovery Community\, a project of the Elkhart Leadership Academy
DESCRIPTION:You’re invited to the Women’s Empowerment Brunch benefiting Rose Garden Recovery Community on Thursday\, April 17th at Hotel Elkhart\, 500 South Main Street\, Elkhart. Doors open at 11 a.m. and the Program begins at 11:30 a.m. \nEnjoy delicious food\, a silent auction\, and empowering presentations! \nVisit www.rosegardenrecovery.com and click on EVENTS for tickets and sponsorships.
URL:https://www.elkhart.org/event/womens-empowerment-brunch-to-benefit-rose-garden-recovery-community-a-project-of-the-elkhart-leadership-academy/
LOCATION:The Aria Ballroom at Hotel Elkhart\, 500 S Main St\, Elkhart\, 46516\, United States
CATEGORIES:Chamber
END:VEVENT
END:VCALENDAR