BEGIN:VCALENDAR
VERSION:2.0
PRODID:-//Greater Elkhart Chamber of Commerce - ECPv6.15.7//NONSGML v1.0//EN
CALSCALE:GREGORIAN
METHOD:PUBLISH
X-ORIGINAL-URL:https://www.elkhart.org
X-WR-CALDESC:Events for Greater Elkhart Chamber of Commerce
REFRESH-INTERVAL;VALUE=DURATION:PT1H
X-Robots-Tag:noindex
X-PUBLISHED-TTL:PT1H
BEGIN:VTIMEZONE
TZID:America/Indiana/Indianapolis
BEGIN:DAYLIGHT
TZOFFSETFROM:-0500
TZOFFSETTO:-0400
TZNAME:EDT
DTSTART:20240310T070000
END:DAYLIGHT
BEGIN:STANDARD
TZOFFSETFROM:-0400
TZOFFSETTO:-0500
TZNAME:EST
DTSTART:20241103T060000
END:STANDARD
BEGIN:DAYLIGHT
TZOFFSETFROM:-0500
TZOFFSETTO:-0400
TZNAME:EDT
DTSTART:20250309T070000
END:DAYLIGHT
BEGIN:STANDARD
TZOFFSETFROM:-0400
TZOFFSETTO:-0500
TZNAME:EST
DTSTART:20251102T060000
END:STANDARD
BEGIN:DAYLIGHT
TZOFFSETFROM:-0500
TZOFFSETTO:-0400
TZNAME:EDT
DTSTART:20260308T070000
END:DAYLIGHT
BEGIN:STANDARD
TZOFFSETFROM:-0400
TZOFFSETTO:-0500
TZNAME:EST
DTSTART:20261101T060000
END:STANDARD
END:VTIMEZONE
BEGIN:VEVENT
DTSTART;TZID=America/Indiana/Indianapolis:20250416T073000
DTEND;TZID=America/Indiana/Indianapolis:20250416T090000
DTSTAMP:20260422T033914
CREATED:20250127T220730Z
LAST-MODIFIED:20250324T144417Z
UID:37564-1744788600-1744794000@www.elkhart.org
SUMMARY:OSHA Breakfast - Fall Protection
DESCRIPTION:The April OSHA Breakfast is all about Fall Protection! \nSampson Briggs\, 3M Fall Protection\, Personal Safety Division\, will share his deeply rooted passion for protecting workers at heights\, highlighting the ABC’s of Fall Protection.  He will also use 3M’s specialized fall protection vehicle for hands on demonstrations of actual drop tests and force measurements simulating restrained falls.  As always\, there will be plenty of time for Q&A so bring your questions for the experts. \nWednesday\, April 16 at 7:30 am at the Matterhorn Conference Center. Breakfast begins at 7:30 am; Program begins at 8 am \nWe will be in the east room – not the big room where we normally meet. \nPre-registration is required. \n \nThis event is open to all Greater Elkhart Chamber Members. Cancellations must be received at least 4 days prior to the meeting. Registration Deadline is Friday\, April 11 at noon.\nTo reserve tickets\, you must either click on the + sign or enter a quantity before clicking “Get Tickets”
URL:https://www.elkhart.org/event/osha-breakfast-4-16-25/
LOCATION:Matterhorn Conference Center\, 2041 Cassopolis St\, Elkhart\, IN\, 46516\, United States
CATEGORIES:Chamber,Featured
END:VEVENT
END:VCALENDAR