BEGIN:VCALENDAR
VERSION:2.0
PRODID:-//Greater Elkhart Chamber of Commerce - ECPv6.15.7//NONSGML v1.0//EN
CALSCALE:GREGORIAN
METHOD:PUBLISH
X-WR-CALNAME:Greater Elkhart Chamber of Commerce
X-ORIGINAL-URL:https://www.elkhart.org
X-WR-CALDESC:Events for Greater Elkhart Chamber of Commerce
REFRESH-INTERVAL;VALUE=DURATION:PT1H
X-Robots-Tag:noindex
X-PUBLISHED-TTL:PT1H
BEGIN:VTIMEZONE
TZID:UTC
BEGIN:STANDARD
TZOFFSETFROM:+0000
TZOFFSETTO:+0000
TZNAME:UTC
DTSTART:20230101T000000
END:STANDARD
END:VTIMEZONE
BEGIN:VEVENT
DTSTART;TZID=UTC:20240815T080000
DTEND;TZID=UTC:20240815T120000
DTSTAMP:20260425T190738
CREATED:20240119T151812Z
LAST-MODIFIED:20240808T154845Z
UID:31494-1723708800-1723723200@www.elkhart.org
SUMMARY:Women’s Council Planning Retreat 2024
DESCRIPTION:Be part of the planning and help make things happen! Come share your ideas/topics for planning the 2025 calendar \n8 – 8:30 a.m. – Welcome and Continental Breakfast\n8:30 a.m. to 12 p.m. – Planning Session and Box Lunch \nContact kcardwell@elkhart.org for retreat details. Registration is required (limited space) \nPresenting Sponsor \n \nEvent Sponsor\n\n \nAll cancellations must be received four (4) days prior to the event for a full refund.\nTo reserve tickets\, you must either click on the + sign or enter a quantity before clicking “Get Tickets”
URL:https://www.elkhart.org/event/womens-council-planning-retreat-2024/
LOCATION:Essenhaus Inn and Conference center\, 240 US 20\, Middlebury\, IN\, United States
CATEGORIES:Chamber,Featured
END:VEVENT
END:VCALENDAR