BEGIN:VCALENDAR
VERSION:2.0
PRODID:-//Greater Elkhart Chamber of Commerce - ECPv6.15.7//NONSGML v1.0//EN
CALSCALE:GREGORIAN
METHOD:PUBLISH
X-ORIGINAL-URL:https://www.elkhart.org
X-WR-CALDESC:Events for Greater Elkhart Chamber of Commerce
REFRESH-INTERVAL;VALUE=DURATION:PT1H
X-Robots-Tag:noindex
X-PUBLISHED-TTL:PT1H
BEGIN:VTIMEZONE
TZID:UTC
BEGIN:STANDARD
TZOFFSETFROM:+0000
TZOFFSETTO:+0000
TZNAME:UTC
DTSTART:20230101T000000
END:STANDARD
END:VTIMEZONE
BEGIN:VEVENT
DTSTART;TZID=UTC:20240726T080000
DTEND;TZID=UTC:20240726T080000
DTSTAMP:20260422T154203
CREATED:20240509T164357Z
LAST-MODIFIED:20240509T192833Z
UID:33793-1721980800-1721980800@www.elkhart.org
SUMMARY:New Educator Welcome 2024
DESCRIPTION:New Educator Welcome for 2024-25 School Year \n\n\nThe Education/Career Development Council of the Greater Elkhart Chamber will welcome new teachers and administrators of Elkhart\, Concord\, and Baugo School systems and area private schools with a welcome presentation at their school system’s orientation in August. \nSponsors are needed for the very nice canvas bags and items to fill them. The completed welcome bags will be delivered to each new educator at their school. \nEach bag will contain information about Elkhart County\, a listing of contributing businesses\, and donated items such as pens\, pencils\, office supplies\, coupons or products with company names and logos. Two hundred items are needed to fill the bags and meet the goal to reach all new educators in the community. Donations should be received at the Chamber by July 26. Bag sponsorships ($400) are due by June 14. \nFor more information\, or if you are interested in donating items for the bags\, please contact Kathy at (574) 293-1531 Ext. 122 or kcardwell@elkhart.org
URL:https://www.elkhart.org/event/new-educator-welcome-2024/
LOCATION:Greater Elkhart Chamber of Commerce\, 418 S. Main St\, Elkhart\, IN\, 46516\, United States
CATEGORIES:Chamber,Featured
END:VEVENT
END:VCALENDAR