BEGIN:VCALENDAR
VERSION:2.0
PRODID:-//Greater Elkhart Chamber of Commerce - ECPv6.15.7//NONSGML v1.0//EN
CALSCALE:GREGORIAN
METHOD:PUBLISH
X-ORIGINAL-URL:https://www.elkhart.org
X-WR-CALDESC:Events for Greater Elkhart Chamber of Commerce
REFRESH-INTERVAL;VALUE=DURATION:PT1H
X-Robots-Tag:noindex
X-PUBLISHED-TTL:PT1H
BEGIN:VTIMEZONE
TZID:UTC
BEGIN:STANDARD
TZOFFSETFROM:+0000
TZOFFSETTO:+0000
TZNAME:UTC
DTSTART:20230101T000000
END:STANDARD
END:VTIMEZONE
BEGIN:VEVENT
DTSTART;TZID=UTC:20240628T140000
DTEND;TZID=UTC:20240628T141500
DTSTAMP:20260425T074521
CREATED:20240528T154700Z
LAST-MODIFIED:20240528T154700Z
UID:34005-1719583200-1719584100@www.elkhart.org
SUMMARY:Member Celebration – Wild Bill’s Tobacco of Elkhart
DESCRIPTION:Please join us as Wild Bill’s Tobacco of Elkhart celebrates a new location with a ribbon-cutting! This event will be held on Friday\, June 28\,  from 2 – 2:15pm at 2224 Cassopolis St in Elkhart. \nWild Bill’s Tobacco is your destination for premium tobacco products and accessories. They have curated a diverse collection of premium and boutique cigars\, cigarettes\, vaping supplies\, e-cigs and more – all at unbeatable prices! https://wildbillstobacco.com/
URL:https://www.elkhart.org/event/member-celebration-wild-bills-tobacco-of-elkhart/
LOCATION:Wild Bill’s Tobacco of Elkhart\, 2224 Cassopolis St\, Elkhart\, IN\, United States
CATEGORIES:Chamber
END:VEVENT
END:VCALENDAR