BEGIN:VCALENDAR
VERSION:2.0
PRODID:-//Greater Elkhart Chamber of Commerce - ECPv6.15.7//NONSGML v1.0//EN
CALSCALE:GREGORIAN
METHOD:PUBLISH
X-WR-CALNAME:Greater Elkhart Chamber of Commerce
X-ORIGINAL-URL:https://www.elkhart.org
X-WR-CALDESC:Events for Greater Elkhart Chamber of Commerce
REFRESH-INTERVAL;VALUE=DURATION:PT1H
X-Robots-Tag:noindex
X-PUBLISHED-TTL:PT1H
BEGIN:VTIMEZONE
TZID:UTC
BEGIN:STANDARD
TZOFFSETFROM:+0000
TZOFFSETTO:+0000
TZNAME:UTC
DTSTART:20220101T000000
END:STANDARD
END:VTIMEZONE
BEGIN:VEVENT
DTSTART;TZID=UTC:20231110T100000
DTEND;TZID=UTC:20231110T100000
DTSTAMP:20260425T191437
CREATED:20231031T202537Z
LAST-MODIFIED:20231031T202537Z
UID:30480-1699610400-1699610400@www.elkhart.org
SUMMARY:Member Celebration – JaRisa’s Fun Zone
DESCRIPTION:The Greater Elkhart Chamber of Commerce will host a ribbon cutting ceremony to celebrate the grand opening of JaRisa’s Fun Zone on Friday\, November 10\,  at 10:00 a.m. \nJaRisa’s Fun Zone is located at 14583 State Road 120\, Bristol\, IN 46507. (formerly Eby’s Family Fun) \nhttps://www.jarisasfunzone.com/
URL:https://www.elkhart.org/event/member-celebration-jarisas-fun-zone/
LOCATION:JaRisa’s Fun Zone\, 14583 State Road 120\, Bristol\, IN\, United States
CATEGORIES:Chamber
END:VEVENT
END:VCALENDAR