BEGIN:VCALENDAR
VERSION:2.0
PRODID:-//Greater Elkhart Chamber of Commerce - ECPv6.15.7//NONSGML v1.0//EN
CALSCALE:GREGORIAN
METHOD:PUBLISH
X-WR-CALNAME:Greater Elkhart Chamber of Commerce
X-ORIGINAL-URL:https://www.elkhart.org
X-WR-CALDESC:Events for Greater Elkhart Chamber of Commerce
REFRESH-INTERVAL;VALUE=DURATION:PT1H
X-Robots-Tag:noindex
X-PUBLISHED-TTL:PT1H
BEGIN:VTIMEZONE
TZID:UTC
BEGIN:STANDARD
TZOFFSETFROM:+0000
TZOFFSETTO:+0000
TZNAME:UTC
DTSTART:20220101T000000
END:STANDARD
END:VTIMEZONE
BEGIN:VEVENT
DTSTART;TZID=UTC:20231003T080000
DTEND;TZID=UTC:20231004T170000
DTSTAMP:20260425T091015
CREATED:20230801T192837Z
LAST-MODIFIED:20230801T192837Z
UID:29165-1696320000-1696438800@www.elkhart.org
SUMMARY:OSHA 10 Hour General Industry Training – 10/2023
DESCRIPTION:This 10 hour 2-day Course is designed to present detailed information on how the provisions of OSHA Act must be implemented in the workplace. The 10 Hour Workshop fee includes breakfast and lunch both days and your personal copy of Introduction to OSHA Student Handbook. \nUpon completion of the training\, participants will receive a Certificate of Completion and a Department of Labor OSHA wallet size completion card.  Attendance is limited to 40 participants. \nCancellations must be received at least 4 working days prior to the first session for a full refund. \nTo reserve tickets\, you must either click on the + sign or enter a quantity before clicking “Get Tickets”
URL:https://www.elkhart.org/event/osha-10-hour-general-industry-training-10-2023/
LOCATION:Matterhorn Conference Center\, 2041 Cassopolis St\, Elkhart\, IN\, 46516\, United States
CATEGORIES:Chamber,Featured
END:VEVENT
BEGIN:VEVENT
DTSTART;TZID=UTC:20231003T180000
DTEND;TZID=UTC:20231003T210000
DTSTAMP:20260425T091015
CREATED:20230912T133321Z
LAST-MODIFIED:20230912T134154Z
UID:29678-1696356000-1696366800@www.elkhart.org
SUMMARY:Self Defense for Women - RAD Classes
DESCRIPTION:Self Defense for Women\, hosted by the Women’s Council of the Greater Elkhart Chamber of Commerce \nRAD (Rape Aggression Defense) Classes for Women Self-Defense Class Open to the Public \nDefensive tactics every woman needs to know are taught at the Elkhart County Sheriff’s Office. \nDet. Norma Alber instructs students both in classroom and gymnasium settings. The 12-hour course is broken into four nights of classes\, spanning two weeks. \nParticipants must attend all four courses in order to complete the course. \nThe next classes will be on the following dates: \n\nTuesday\, October 3\nThursday\, October 5\nTuesday\, October 10\nThursday\, October 12\n\nClasses will be from 6:00 pm to 9:00 pm at the Elkhart County Sheriff’s Office\, 26861 C.R. 26\, Elkhart\, IN 46517 (turn right & right again after entering the Criminal Justice Complex.  Follow the road that goes down a level\, park\, & enter the door on the south side of the building.  It will be marked where to go.) \nWomen interested in attending these free courses should call (574)891-2341 or send an email to VShaw@elkhartcountysheriff.com.
URL:https://www.elkhart.org/event/self-defense-for-women-rad-classes/
LOCATION:Elkhart County Sheriff’s Office\, 26861 C.R. 26\, Elkhart\, IN\, United States
CATEGORIES:Chamber
END:VEVENT
END:VCALENDAR