BEGIN:VCALENDAR
VERSION:2.0
PRODID:-//Greater Elkhart Chamber of Commerce - ECPv6.15.7//NONSGML v1.0//EN
CALSCALE:GREGORIAN
METHOD:PUBLISH
X-ORIGINAL-URL:https://www.elkhart.org
X-WR-CALDESC:Events for Greater Elkhart Chamber of Commerce
REFRESH-INTERVAL;VALUE=DURATION:PT1H
X-Robots-Tag:noindex
X-PUBLISHED-TTL:PT1H
BEGIN:VTIMEZONE
TZID:UTC
BEGIN:STANDARD
TZOFFSETFROM:+0000
TZOFFSETTO:+0000
TZNAME:UTC
DTSTART:20210101T000000
END:STANDARD
END:VTIMEZONE
BEGIN:VEVENT
DTSTART;TZID=UTC:20221215T160000
DTEND;TZID=UTC:20221215T170000
DTSTAMP:20260419T114438
CREATED:20221202T181154Z
LAST-MODIFIED:20221202T181154Z
UID:25960-1671120000-1671123600@www.elkhart.org
SUMMARY:Member Celebration - Faith Mission of Michiana
DESCRIPTION:Join the team at Faith Mission as they unveil their completed Tiny Shelter facilities  at 801 Benham Avenue\, Elkhart\, on December 15. The Ribbon Cutting Ceremony will begin at 4:00 pm with tours to follow.  www.thefaithmission.org
URL:https://www.elkhart.org/event/member-celebration-faith-mission-of-michiana/
LOCATION:Faith Mission\, 801 Benham Ave\, Elkhart\, IN\, United States
CATEGORIES:Chamber
END:VEVENT
END:VCALENDAR