BEGIN:VCALENDAR
VERSION:2.0
PRODID:-//Greater Elkhart Chamber of Commerce - ECPv6.15.7//NONSGML v1.0//EN
CALSCALE:GREGORIAN
METHOD:PUBLISH
X-ORIGINAL-URL:https://www.elkhart.org
X-WR-CALDESC:Events for Greater Elkhart Chamber of Commerce
REFRESH-INTERVAL;VALUE=DURATION:PT1H
X-Robots-Tag:noindex
X-PUBLISHED-TTL:PT1H
BEGIN:VTIMEZONE
TZID:America/Indiana/Indianapolis
BEGIN:DAYLIGHT
TZOFFSETFROM:-0500
TZOFFSETTO:-0400
TZNAME:EDT
DTSTART:20200308T070000
END:DAYLIGHT
BEGIN:STANDARD
TZOFFSETFROM:-0400
TZOFFSETTO:-0500
TZNAME:EST
DTSTART:20201101T060000
END:STANDARD
BEGIN:DAYLIGHT
TZOFFSETFROM:-0500
TZOFFSETTO:-0400
TZNAME:EDT
DTSTART:20210314T070000
END:DAYLIGHT
BEGIN:STANDARD
TZOFFSETFROM:-0400
TZOFFSETTO:-0500
TZNAME:EST
DTSTART:20211107T060000
END:STANDARD
BEGIN:DAYLIGHT
TZOFFSETFROM:-0500
TZOFFSETTO:-0400
TZNAME:EDT
DTSTART:20220313T070000
END:DAYLIGHT
BEGIN:STANDARD
TZOFFSETFROM:-0400
TZOFFSETTO:-0500
TZNAME:EST
DTSTART:20221106T060000
END:STANDARD
END:VTIMEZONE
BEGIN:VEVENT
DTSTART;TZID=America/Indiana/Indianapolis:20210813T160000
DTEND;TZID=America/Indiana/Indianapolis:20210813T200000
DTSTAMP:20260421T102005
CREATED:20210729T143805Z
LAST-MODIFIED:20210729T143805Z
UID:20246-1628870400-1628884800@www.elkhart.org
SUMMARY:Member Celebration - Redefine Aesthetics
DESCRIPTION:Redefine Aesthetics Birthday Bash + Ribbon-cutting Ceremony \nRedefine Aesthetics joined the Elkhart Chamber! Come celebrate with us on Friday\, August 13 from 4 – 8 p.m.  Ribbon-cutting ceremony at 4 p.m. followed by our 2nd Birthday Bash until 8 p.m.  Blessed to be in Elkhart and have clients\, followers and friends. There will be sales\, treats\, food\, drinks and a gift with purchase valued at $50.  Looking forward to celebrating with you! facebook.com/redefinemicroblading
URL:https://www.elkhart.org/event/member-celebration-redefine-aesthetics/
LOCATION:Redefine Aesthetics\, 112 W. Lexington Ave\, Elkhart\, IN\, 46516\, United States
CATEGORIES:Chamber
END:VEVENT
END:VCALENDAR