BEGIN:VCALENDAR
VERSION:2.0
PRODID:-//Greater Elkhart Chamber of Commerce - ECPv6.15.7//NONSGML v1.0//EN
CALSCALE:GREGORIAN
METHOD:PUBLISH
X-WR-CALNAME:Greater Elkhart Chamber of Commerce
X-ORIGINAL-URL:https://www.elkhart.org
X-WR-CALDESC:Events for Greater Elkhart Chamber of Commerce
REFRESH-INTERVAL;VALUE=DURATION:PT1H
X-Robots-Tag:noindex
X-PUBLISHED-TTL:PT1H
BEGIN:VTIMEZONE
TZID:America/Indiana/Indianapolis
BEGIN:DAYLIGHT
TZOFFSETFROM:-0500
TZOFFSETTO:-0400
TZNAME:EDT
DTSTART:20200308T070000
END:DAYLIGHT
BEGIN:STANDARD
TZOFFSETFROM:-0400
TZOFFSETTO:-0500
TZNAME:EST
DTSTART:20201101T060000
END:STANDARD
BEGIN:DAYLIGHT
TZOFFSETFROM:-0500
TZOFFSETTO:-0400
TZNAME:EDT
DTSTART:20210314T070000
END:DAYLIGHT
BEGIN:STANDARD
TZOFFSETFROM:-0400
TZOFFSETTO:-0500
TZNAME:EST
DTSTART:20211107T060000
END:STANDARD
BEGIN:DAYLIGHT
TZOFFSETFROM:-0500
TZOFFSETTO:-0400
TZNAME:EDT
DTSTART:20220313T070000
END:DAYLIGHT
BEGIN:STANDARD
TZOFFSETFROM:-0400
TZOFFSETTO:-0500
TZNAME:EST
DTSTART:20221106T060000
END:STANDARD
END:VTIMEZONE
BEGIN:VEVENT
DTSTART;TZID=America/Indiana/Indianapolis:20210803T100000
DTEND;TZID=America/Indiana/Indianapolis:20210803T100000
DTSTAMP:20260419T102752
CREATED:20210721T122039Z
LAST-MODIFIED:20210726T173414Z
UID:20137-1627984800-1627984800@www.elkhart.org
SUMMARY:Member Celebration - 809 Barbershop
DESCRIPTION:Join us on August 3 at 10 am as we celebrate the opening of 809 Barbershop.  809 Barbershop is located at 3247 Northview Dr\, Elkhart. www.809barbershop.com
URL:https://www.elkhart.org/event/member-celebration-809-barbershop/
LOCATION:809 Barbershop\, 3247 Northview Dr\, Elkhart\, IN\, United States
CATEGORIES:Chamber
END:VEVENT
BEGIN:VEVENT
DTSTART;TZID=America/Indiana/Indianapolis:20210810T113000
DTEND;TZID=America/Indiana/Indianapolis:20210810T130000
DTSTAMP:20260419T102752
CREATED:20210507T155221Z
LAST-MODIFIED:20210808T222353Z
UID:19428-1628595000-1628600400@www.elkhart.org
SUMMARY:INDOT Luncheon 2021
DESCRIPTION:INDOT Luncheon 2021 hosted by The Transportation Council of the Greater Elkhart Chamber of Commerce \nSpecial guests from Indiana Department of Transportation \nLet’s celebrate what we have already achieved working together! Learn about upcoming plans for transportation infrastructure in the Michiana area. \nRegistration for this event is now closed. \nPresented by:   \n   \nLuncheon Sponsors:\nHRP Construction Inc.; Indiana Michigan Power; Majority Builders; Rieth-Riley Construction Co.\, Inc.; Robert Weed Corporation; and Surveying And Mapping\, LLC \n 
URL:https://www.elkhart.org/event/indot-luncheon-2021/
LOCATION:Elcona Country Club\, 56784 Co Rd 21\, Bristol\, IN\, 46507\, United States
CATEGORIES:Chamber,Featured
END:VEVENT
BEGIN:VEVENT
DTSTART;TZID=America/Indiana/Indianapolis:20210812T110000
DTEND;TZID=America/Indiana/Indianapolis:20210812T110000
DTSTAMP:20260419T102752
CREATED:20210721T122451Z
LAST-MODIFIED:20210721T122504Z
UID:20139-1628766000-1628766000@www.elkhart.org
SUMMARY:Member Celebration - Faith Mission Low Barrier Shelter Completion
DESCRIPTION:Faith Mission is the only emergency facility in Elkhart County where shelter\, meals\, clothing and long-term recovery programs are provided all in one place. Join us for a ribbon cutting ceremony on August 12 at 11am at 801 Benham Ave\, to celebrate the completion of the low barrier shelters. www.thefaithmission.org
URL:https://www.elkhart.org/event/member-celebration-faith-mission-low-barrier-shelter-completion/
LOCATION:Faith Mission\, 801 Benham Ave\, Elkhart\, IN\, United States
CATEGORIES:Chamber
END:VEVENT
BEGIN:VEVENT
DTSTART;TZID=America/Indiana/Indianapolis:20210813T160000
DTEND;TZID=America/Indiana/Indianapolis:20210813T200000
DTSTAMP:20260419T102752
CREATED:20210729T143805Z
LAST-MODIFIED:20210729T143805Z
UID:20246-1628870400-1628884800@www.elkhart.org
SUMMARY:Member Celebration - Redefine Aesthetics
DESCRIPTION:Redefine Aesthetics Birthday Bash + Ribbon-cutting Ceremony \nRedefine Aesthetics joined the Elkhart Chamber! Come celebrate with us on Friday\, August 13 from 4 – 8 p.m.  Ribbon-cutting ceremony at 4 p.m. followed by our 2nd Birthday Bash until 8 p.m.  Blessed to be in Elkhart and have clients\, followers and friends. There will be sales\, treats\, food\, drinks and a gift with purchase valued at $50.  Looking forward to celebrating with you! facebook.com/redefinemicroblading
URL:https://www.elkhart.org/event/member-celebration-redefine-aesthetics/
LOCATION:Redefine Aesthetics\, 112 W. Lexington Ave\, Elkhart\, IN\, 46516\, United States
CATEGORIES:Chamber
END:VEVENT
BEGIN:VEVENT
DTSTART;TZID=America/Indiana/Indianapolis:20210816T130000
DTEND;TZID=America/Indiana/Indianapolis:20210816T133000
DTSTAMP:20260419T102752
CREATED:20210811T193525Z
LAST-MODIFIED:20210811T202826Z
UID:20366-1629118800-1629120600@www.elkhart.org
SUMMARY:Member Celebration - Groundbreaking for City of Elkhart and Surf Broadband Solutions
DESCRIPTION:Come celebrate the City of Elkhart and Surf Broadband Solutions announcement of a city wide build out of fiber for all residents of Elkhart.  The groundbreaking will feature comments from the Mayor of Elkhart\, Rod Roberson and CEO of Surf Broadband Solutions\, Gene Crusie. \n  \nCity of Elkhart – https://elkhartindiana.org/ \nSurf Broadband Solutions – https://www.surfbroadband.com/
URL:https://www.elkhart.org/event/member-celebration-groundbreaking-for-city-of-elkhart-and-surf-broadband-solutions/
LOCATION:Civic Plaza\, Downtown Elkhart
CATEGORIES:Chamber
END:VEVENT
BEGIN:VEVENT
DTSTART;TZID=America/Indiana/Indianapolis:20210819T090000
DTEND;TZID=America/Indiana/Indianapolis:20210819T123000
DTSTAMP:20260419T102752
CREATED:20210713T130049Z
LAST-MODIFIED:20210817T203410Z
UID:20089-1629363600-1629376200@www.elkhart.org
SUMMARY:Women's Council 2022 Planning Retreat
DESCRIPTION:Be part of the planning and help make things happen! Come share your ideas/topics for planning the 2022 calendar \n9 a.m. – Welcome and Continental Breakfast\n9:30 a.m. to 12:30 p.m. – Planning Session and Box Lunch \nContact kcardwell@elkhart.org for retreat details. Registration is required (limited space) \nRegistration for this event is closed.
URL:https://www.elkhart.org/event/womens-council-2022-planning-retreat/
LOCATION:The Gathering Place at Billings\, 1231 Johnson St.\, Elkhart\, IN\, United States
CATEGORIES:Chamber,Featured
END:VEVENT
BEGIN:VEVENT
DTSTART;TZID=America/Indiana/Indianapolis:20210825T110000
DTEND;TZID=America/Indiana/Indianapolis:20210825T110000
DTSTAMP:20260419T102752
CREATED:20210819T164719Z
LAST-MODIFIED:20210819T164719Z
UID:20431-1629889200-1629889200@www.elkhart.org
SUMMARY:Member Celebration - The Craftsman's Daughter
DESCRIPTION:Celebrate the Opening of The Craftsman’s Daughter in Downtown Elkhart on Wednesday\, August 25 at 11:00 a.m. with a ribbon-cutting ceremony.  This on trend\, fashion and home décor boutique is located at 409 S. Main Street.  www.tcdboutique.com
URL:https://www.elkhart.org/event/member-celebration-the-craftsmans-daughter/
LOCATION:Craftsman’s Daughter\, 409 S Main St\, Elkhart\, IN\, United States
CATEGORIES:Chamber
END:VEVENT
BEGIN:VEVENT
DTSTART;TZID=America/Indiana/Indianapolis:20210826T160000
DTEND;TZID=America/Indiana/Indianapolis:20210826T200000
DTSTAMP:20260419T102752
CREATED:20210819T125259Z
LAST-MODIFIED:20210819T125259Z
UID:20429-1629993600-1630008000@www.elkhart.org
SUMMARY:Member Celebration - Graze by Erica
DESCRIPTION:It’s here!  Come celebrate the Grand Opening of Graze by Erica on Thurs. Aug. 26th from 4:00 – 8:00pm. Ribbon Cutting at 4 pm. Sips\, Treats\, Cheese & Celebration at 224 S. Main Street\, Downtown Elkhart – inside Interior Motives.  www.grazebyerica.com
URL:https://www.elkhart.org/event/member-celebration-graze-by-erica/
LOCATION:Graze by Erica\, 224 S Main St\, Elkhart\, IN\, United States
CATEGORIES:Chamber
END:VEVENT
END:VCALENDAR